BEGIN:VCALENDAR
VERSION:2.0
PRODID:-//Dominic A. Murray 21 Memorial Foundation - ECPv6.15.17.1//NONSGML v1.0//EN
CALSCALE:GREGORIAN
METHOD:PUBLISH
X-ORIGINAL-URL:https://www.domheart21.org
X-WR-CALDESC:Events for Dominic A. Murray 21 Memorial Foundation
REFRESH-INTERVAL;VALUE=DURATION:PT1H
X-Robots-Tag:noindex
X-PUBLISHED-TTL:PT1H
BEGIN:VTIMEZONE
TZID:UTC
BEGIN:STANDARD
TZOFFSETFROM:+0000
TZOFFSETTO:+0000
TZNAME:UTC
DTSTART:20150101T000000
END:STANDARD
END:VTIMEZONE
BEGIN:VEVENT
DTSTART;TZID=UTC:20161029T080000
DTEND;TZID=UTC:20161029T170000
DTSTAMP:20260424T220856
CREATED:20160817T170403Z
LAST-MODIFIED:20160817T170403Z
UID:1174-1477728000-1477760400@www.domheart21.org
SUMMARY:Berner Middle School: Youth Heart Screen
DESCRIPTION:Youth Heart Screen At Berner Middle School
URL:https://www.domheart21.org/event/berner-middle-school-youth-heart-screen/
LOCATION:Berner Middle School\, 50 Carman Mill Rd. \, Massapequa\, NY\, 11758\, United States
END:VEVENT
END:VCALENDAR