BEGIN:VCALENDAR
VERSION:2.0
PRODID:-//Dominic A. Murray 21 Memorial Foundation - ECPv6.15.17.1//NONSGML v1.0//EN
CALSCALE:GREGORIAN
METHOD:PUBLISH
X-WR-CALNAME:Dominic A. Murray 21 Memorial Foundation
X-ORIGINAL-URL:https://www.domheart21.org
X-WR-CALDESC:Events for Dominic A. Murray 21 Memorial Foundation
REFRESH-INTERVAL;VALUE=DURATION:PT1H
X-Robots-Tag:noindex
X-PUBLISHED-TTL:PT1H
BEGIN:VTIMEZONE
TZID:UTC
BEGIN:STANDARD
TZOFFSETFROM:+0000
TZOFFSETTO:+0000
TZNAME:UTC
DTSTART:20160101T000000
END:STANDARD
END:VTIMEZONE
BEGIN:VEVENT
DTSTART;TZID=UTC:20170325T080000
DTEND;TZID=UTC:20170325T170000
DTSTAMP:20260424T150747
CREATED:20160817T170720Z
LAST-MODIFIED:20160817T170720Z
UID:1179-1490428800-1490461200@www.domheart21.org
SUMMARY:Half Hollows Hills HS East: Youth Heart Screen
DESCRIPTION:Youth Heart Screen at Half Hollows Hills HS East
URL:https://www.domheart21.org/event/half-hollows-hills-hs-east-youth-heart-screen/
LOCATION:Half Hollows Hills HS East\, 50 Vanderbilt Parkway\, Dix Hills\, NY\, 11746\, United States
END:VEVENT
END:VCALENDAR