BEGIN:VCALENDAR
VERSION:2.0
PRODID:-//Dominic A. Murray 21 Memorial Foundation - ECPv6.15.17.1//NONSGML v1.0//EN
CALSCALE:GREGORIAN
METHOD:PUBLISH
X-WR-CALNAME:Dominic A. Murray 21 Memorial Foundation
X-ORIGINAL-URL:https://www.domheart21.org
X-WR-CALDESC:Events for Dominic A. Murray 21 Memorial Foundation
REFRESH-INTERVAL;VALUE=DURATION:PT1H
X-Robots-Tag:noindex
X-PUBLISHED-TTL:PT1H
BEGIN:VTIMEZONE
TZID:UTC
BEGIN:STANDARD
TZOFFSETFROM:+0000
TZOFFSETTO:+0000
TZNAME:UTC
DTSTART:20160101T000000
END:STANDARD
END:VTIMEZONE
BEGIN:VEVENT
DTSTART;TZID=UTC:20170408T080000
DTEND;TZID=UTC:20170408T170000
DTSTAMP:20260424T132603
CREATED:20160817T171019Z
LAST-MODIFIED:20170428T161330Z
UID:1182-1491638400-1491670800@www.domheart21.org
SUMMARY:Washingtonville HS: Youth Heart Screen
DESCRIPTION:Youth Heart Screen at Washingtonville HS
URL:https://www.domheart21.org/event/washingtonville-hs-youth-heart-screen/
LOCATION:Washingtonville HS\, 54 W. Main Street\, Washingtonville\, NY\, 10992\, United States
END:VEVENT
END:VCALENDAR