BEGIN:VCALENDAR
VERSION:2.0
PRODID:-//Dominic A. Murray 21 Memorial Foundation - ECPv6.15.17.1//NONSGML v1.0//EN
CALSCALE:GREGORIAN
METHOD:PUBLISH
X-WR-CALNAME:Dominic A. Murray 21 Memorial Foundation
X-ORIGINAL-URL:https://www.domheart21.org
X-WR-CALDESC:Events for Dominic A. Murray 21 Memorial Foundation
REFRESH-INTERVAL;VALUE=DURATION:PT1H
X-Robots-Tag:noindex
X-PUBLISHED-TTL:PT1H
BEGIN:VTIMEZONE
TZID:UTC
BEGIN:STANDARD
TZOFFSETFROM:+0000
TZOFFSETTO:+0000
TZNAME:UTC
DTSTART:20160101T000000
END:STANDARD
END:VTIMEZONE
BEGIN:VEVENT
DTSTART;VALUE=DATE:20171014
DTEND;VALUE=DATE:20171015
DTSTAMP:20260424T035333
CREATED:20170428T152518Z
LAST-MODIFIED:20170428T162635Z
UID:1218-1507939200-1508025599@www.domheart21.org
SUMMARY:Shoreham-Wading River HS: Youth Heart Screen
DESCRIPTION:Shoreham-Wading River HS\n250B Route 25A\nShoreham\, NY 11786
URL:https://www.domheart21.org/event/heart-screen-ny/
LOCATION:Shoreham-Wading River HS\,  250B Route 25A\, Shoreham\, NY\, 11786\, United States
END:VEVENT
BEGIN:VEVENT
DTSTART;VALUE=DATE:20171021
DTEND;VALUE=DATE:20171022
DTSTAMP:20260424T035333
CREATED:20170428T151635Z
LAST-MODIFIED:20170428T161121Z
UID:1211-1508544000-1508630399@www.domheart21.org
SUMMARY:5th Annual Red Gala
DESCRIPTION:Russo’s On the Bay\n162-45 Cross Bay Blvd.\nHoward Beach\, NY 11414
URL:https://www.domheart21.org/event/5th-annual-red-gala/
LOCATION:Russo’s On the Bay\, 162-45 Cross Bay Blvd.\, Howard Beach\, NY\, United States
END:VEVENT
END:VCALENDAR