BEGIN:VCALENDAR
VERSION:2.0
PRODID:-//Dominic A. Murray 21 Memorial Foundation - ECPv6.15.17.1//NONSGML v1.0//EN
CALSCALE:GREGORIAN
METHOD:PUBLISH
X-WR-CALNAME:Dominic A. Murray 21 Memorial Foundation
X-ORIGINAL-URL:https://www.domheart21.org
X-WR-CALDESC:Events for Dominic A. Murray 21 Memorial Foundation
REFRESH-INTERVAL;VALUE=DURATION:PT1H
X-Robots-Tag:noindex
X-PUBLISHED-TTL:PT1H
BEGIN:VTIMEZONE
TZID:UTC
BEGIN:STANDARD
TZOFFSETFROM:+0000
TZOFFSETTO:+0000
TZNAME:UTC
DTSTART:20170101T000000
END:STANDARD
END:VTIMEZONE
BEGIN:VEVENT
DTSTART;VALUE=DATE:20180419
DTEND;VALUE=DATE:20180420
DTSTAMP:20260423T181509
CREATED:20180413T153618Z
LAST-MODIFIED:20180413T153954Z
UID:1260-1524096000-1524182399@www.domheart21.org
SUMMARY:HeartSaver CPR/AED Class
DESCRIPTION:JetBlue\n27-01 Queens Plaza North\nLong Island City\, NY 11101\n(closed session)
URL:https://www.domheart21.org/event/heartsaver-cpr-aed-class/
END:VEVENT
BEGIN:VEVENT
DTSTART;VALUE=DATE:20180428
DTEND;VALUE=DATE:20180429
DTSTAMP:20260423T181509
CREATED:20180413T153644Z
LAST-MODIFIED:20180413T153949Z
UID:1262-1524873600-1524959999@www.domheart21.org
SUMMARY:DM21 Board Meeting
DESCRIPTION:DM21 Board Meeting
URL:https://www.domheart21.org/event/dm21-board-meeting-12/
END:VEVENT
END:VCALENDAR